Package: ggtreeSpace Version: 1.3.0 Command: /home/biocbuild/R/R/bin/R CMD build --keep-empty-dirs --no-resave-data ggtreeSpace StartedAt: 2025-01-28 23:13:56 -0000 (Tue, 28 Jan 2025) EndedAt: 2025-01-28 23:14:20 -0000 (Tue, 28 Jan 2025) EllapsedTime: 24.0 seconds RetCode: 0 Status: OK PackageFile: ggtreeSpace_1.3.0.tar.gz PackageFileSize: 390 KiB