Package: ggtreeExtra Version: 1.17.0 Command: /Library/Frameworks/R.framework/Resources/bin/R CMD build --keep-empty-dirs --no-resave-data ggtreeExtra StartedAt: 2025-01-31 16:29:31 -0500 (Fri, 31 Jan 2025) EndedAt: 2025-01-31 16:29:38 -0500 (Fri, 31 Jan 2025) EllapsedTime: 7.1 seconds RetCode: 0 Status: OK PackageFile: ggtreeExtra_1.17.0.tar.gz PackageFileSize: 933.1 KiB