Package: ggtreeDendro Version: 1.9.0 Maintainer: Guangchuang Yu MaintainerEmail: guangchuangyu at gmail.com git_url: https://git.bioconductor.org/packages/ggtreeDendro git_branch: devel git_last_commit: ecbc889 git_last_commit_date: 2024-10-29 11:15:08 -0500 (Tue, 29 Oct 2024)