Package: ggkegg Version: 1.5.1 Command: E:\biocbuild\bbs-3.21-bioc\R\bin\R.exe CMD INSTALL ggkegg StartedAt: 2025-02-02 15:35:01 -0500 (Sun, 02 Feb 2025) EndedAt: 2025-02-02 15:35:38 -0500 (Sun, 02 Feb 2025) EllapsedTime: 37.6 seconds RetCode: 0 Status: OK