Package: ggbio Version: 1.55.0 Command: /Library/Frameworks/R.framework/Resources/bin/R CMD INSTALL ggbio StartedAt: 2025-01-31 15:30:17 -0500 (Fri, 31 Jan 2025) EndedAt: 2025-01-31 15:31:34 -0500 (Fri, 31 Jan 2025) EllapsedTime: 76.9 seconds RetCode: 0 Status: OK