Package: ggbio Version: 1.55.0 Command: /Library/Frameworks/R.framework/Resources/bin/R CMD build --keep-empty-dirs --no-resave-data ggbio StartedAt: 2025-01-31 16:28:49 -0500 (Fri, 31 Jan 2025) EndedAt: 2025-01-31 16:30:36 -0500 (Fri, 31 Jan 2025) EllapsedTime: 107.1 seconds RetCode: 0 Status: OK PackageFile: ggbio_1.55.0.tar.gz PackageFileSize: 3.096 MiB