Package: gg4way Version: 1.5.0 Command: rm -rf gg4way.buildbin-libdir && mkdir gg4way.buildbin-libdir && E:\biocbuild\bbs-3.21-bioc\R\bin\R.exe CMD INSTALL --build --library=gg4way.buildbin-libdir gg4way_1.5.0.tar.gz StartedAt: 2025-02-01 07:19:00 -0500 (Sat, 01 Feb 2025) EndedAt: 2025-02-01 07:19:32 -0500 (Sat, 01 Feb 2025) EllapsedTime: 32.4 seconds RetCode: 0 Status: OK PackageFile: gg4way_1.5.0.zip PackageFileSize: 2.478 MiB