Package: genomicInstability Version: 1.13.0 Command: /Library/Frameworks/R.framework/Resources/bin/R CMD check --install=check:genomicInstability.install-out.txt --library=/Library/Frameworks/R.framework/Resources/library --no-vignettes --timings genomicInstability_1.13.0.tar.gz StartedAt: 2025-01-31 19:24:36 -0500 (Fri, 31 Jan 2025) EndedAt: 2025-01-31 19:26:28 -0500 (Fri, 31 Jan 2025) EllapsedTime: 112.2 seconds RetCode: 0 Status: OK CheckDir: genomicInstability.Rcheck Warnings: 0