Package: genomicInstability Version: 1.13.0 Command: /Library/Frameworks/R.framework/Resources/bin/R CMD build --keep-empty-dirs --no-resave-data genomicInstability StartedAt: 2025-01-31 16:26:50 -0500 (Fri, 31 Jan 2025) EndedAt: 2025-01-31 16:27:33 -0500 (Fri, 31 Jan 2025) EllapsedTime: 42.5 seconds RetCode: 0 Status: OK PackageFile: genomicInstability_1.13.0.tar.gz PackageFileSize: 1.211 MiB