Package: genomation Version: 1.39.0 Command: rm -rf genomation.buildbin-libdir && mkdir genomation.buildbin-libdir && E:\biocbuild\bbs-3.21-bioc\R\bin\R.exe CMD INSTALL --build --library=genomation.buildbin-libdir genomation_1.39.0.tar.gz StartedAt: 2025-02-01 07:16:55 -0500 (Sat, 01 Feb 2025) EndedAt: 2025-02-01 07:18:42 -0500 (Sat, 01 Feb 2025) EllapsedTime: 107.3 seconds RetCode: 0 Status: OK PackageFile: genomation_1.39.0.zip PackageFileSize: 3.327 MiB