Package: genomation Version: 1.39.0 Command: /Library/Frameworks/R.framework/Resources/bin/R CMD build --keep-empty-dirs --no-resave-data genomation StartedAt: 2025-01-31 16:48:24 -0500 (Fri, 31 Jan 2025) EndedAt: 2025-01-31 16:49:50 -0500 (Fri, 31 Jan 2025) EllapsedTime: 86.5 seconds RetCode: 0 Status: OK PackageFile: genomation_1.39.0.tar.gz PackageFileSize: 6.005 MiB