Package: geneClassifiers Version: 1.31.0 Command: E:\biocbuild\bbs-3.21-bioc\R\bin\R.exe CMD INSTALL geneClassifiers StartedAt: 2025-01-31 15:22:42 -0500 (Fri, 31 Jan 2025) EndedAt: 2025-01-31 15:25:24 -0500 (Fri, 31 Jan 2025) EllapsedTime: 162.5 seconds RetCode: 0 Status: OK