Package: geneAttribution Version: 1.33.0 Command: /home/biocbuild/R/R/bin/R CMD check --install=check:geneAttribution.install-out.txt --library=/home/biocbuild/R/R/site-library --no-vignettes --timings geneAttribution_1.33.0.tar.gz StartedAt: 2025-01-28 10:50:16 -0000 (Tue, 28 Jan 2025) EndedAt: 2025-01-28 10:55:53 -0000 (Tue, 28 Jan 2025) EllapsedTime: 336.4 seconds RetCode: 0 Status: OK CheckDir: geneAttribution.Rcheck Warnings: 0