Package: gemini Version: 1.21.0 Command: /home/biocbuild/R/R/bin/R CMD INSTALL gemini StartedAt: 2025-01-29 20:17:09 -0000 (Wed, 29 Jan 2025) EndedAt: 2025-01-29 20:17:24 -0000 (Wed, 29 Jan 2025) EllapsedTime: 14.9 seconds RetCode: 0 Status: OK