Package: gcrma Version: 2.79.0 Command: E:\biocbuild\bbs-3.21-bioc\R\bin\R.exe CMD INSTALL gcrma StartedAt: 2025-01-31 15:38:43 -0500 (Fri, 31 Jan 2025) EndedAt: 2025-01-31 15:39:06 -0500 (Fri, 31 Jan 2025) EllapsedTime: 23.7 seconds RetCode: 0 Status: OK