Package: gcrma Version: 2.79.0 Command: chmod a+r gcrma -R && E:\biocbuild\bbs-3.21-bioc\R\bin\R.exe CMD build --keep-empty-dirs --no-resave-data gcrma StartedAt: 2025-01-31 18:38:30 -0500 (Fri, 31 Jan 2025) EndedAt: 2025-01-31 18:38:57 -0500 (Fri, 31 Jan 2025) EllapsedTime: 27.0 seconds RetCode: 0 Status: OK PackageFile: gcrma_2.79.0.tar.gz PackageFileSize: 149.8 KiB