Package: gcrma Version: 2.79.0 Command: rm -rf gcrma.buildbin-libdir && mkdir gcrma.buildbin-libdir && E:\biocbuild\bbs-3.21-bioc\R\bin\R.exe CMD INSTALL --build --library=gcrma.buildbin-libdir gcrma_2.79.0.tar.gz StartedAt: 2025-02-01 07:15:10 -0500 (Sat, 01 Feb 2025) EndedAt: 2025-02-01 07:15:30 -0500 (Sat, 01 Feb 2025) EllapsedTime: 20.5 seconds RetCode: 0 Status: OK PackageFile: gcrma_2.79.0.zip PackageFileSize: 258.4 KiB