Package: gcrma Version: 2.79.0 Command: /home/biocbuild/R/R/bin/R CMD build --keep-empty-dirs --no-resave-data gcrma StartedAt: 2025-01-28 23:01:07 -0000 (Tue, 28 Jan 2025) EndedAt: 2025-01-28 23:01:26 -0000 (Tue, 28 Jan 2025) EllapsedTime: 19.0 seconds RetCode: 0 Status: OK PackageFile: gcrma_2.79.0.tar.gz PackageFileSize: 279 KiB