Package: gcapc Version: 1.31.0 Command: /home/biocbuild/R/R/bin/R CMD check --install=check:gcapc.install-out.txt --library=/home/biocbuild/R/R/site-library --no-vignettes --timings gcapc_1.31.0.tar.gz StartedAt: 2025-01-28 10:45:21 -0000 (Tue, 28 Jan 2025) EndedAt: 2025-01-28 10:54:17 -0000 (Tue, 28 Jan 2025) EllapsedTime: 535.5 seconds RetCode: 0 Status: OK CheckDir: gcapc.Rcheck Warnings: 0