Package: gDRimport Version: 1.5.5 Command: /Library/Frameworks/R.framework/Resources/bin/R CMD INSTALL gDRimport StartedAt: 2025-01-31 15:43:41 -0500 (Fri, 31 Jan 2025) EndedAt: 2025-01-31 15:44:12 -0500 (Fri, 31 Jan 2025) EllapsedTime: 31.7 seconds RetCode: 0 Status: OK