Package: gDRcore Version: 1.5.4 Command: E:\biocbuild\bbs-3.21-bioc\R\bin\R.exe CMD check --no-multiarch --install=check:gDRcore.install-out.txt --library=E:\biocbuild\bbs-3.21-bioc\R\library --no-vignettes --timings gDRcore_1.5.4.tar.gz StartedAt: 2025-02-01 00:59:04 -0500 (Sat, 01 Feb 2025) EndedAt: 2025-02-01 01:06:34 -0500 (Sat, 01 Feb 2025) EllapsedTime: 450.8 seconds RetCode: 0 Status: OK CheckDir: gDRcore.Rcheck Warnings: 0