############################################################################## ############################################################################## ### ### Running command: ### ### rm -rf gDRcore.buildbin-libdir && mkdir gDRcore.buildbin-libdir && E:\biocbuild\bbs-3.21-bioc\R\bin\R.exe CMD INSTALL --build --library=gDRcore.buildbin-libdir gDRcore_1.5.4.tar.gz ### ############################################################################## ############################################################################## * installing *source* package 'gDRcore' ... ** this is package 'gDRcore' version '1.5.4' ** using staged installation ** libs using C++ compiler: 'G__~1.EXE (GCC) 13.3.0' g++ -std=gnu++17 -I"E:/biocbuild/bbs-3.21-bioc/R/include" -DNDEBUG -I"C:/rtools44/x86_64-w64-mingw32.static.posix/include" -O2 -Wall -mfpmath=sse -msse2 -mstackrealign -DR_NO_REMAP -c gDRcore.cpp -o gDRcore.o gDRcore.cpp:6: warning: "R_NO_REMAP" redefined 6 | #define R_NO_REMAP | : note: this is the location of the previous definition g++ -std=gnu++17 -shared -s -static-libgcc -o gDRcore.dll tmp.def gDRcore.o -LC:/rtools44/x86_64-w64-mingw32.static.posix/lib/x64 -LC:/rtools44/x86_64-w64-mingw32.static.posix/lib -LE:/biocbuild/bbs-3.21-bioc/R/bin/x64 -lR installing to E:/biocbuild/bbs-3.21-bioc/meat/gDRcore.buildbin-libdir/00LOCK-gDRcore/00new/gDRcore/libs/x64 ** R ** inst ** byte-compile and prepare package for lazy loading ** help *** installing help indices ** building package indices ** installing vignettes ** testing if installed package can be loaded from temporary location ** testing if installed package can be loaded from final location ** testing if installed package keeps a record of temporary installation path * MD5 sums packaged installation of 'gDRcore' as gDRcore_1.5.4.zip * DONE (gDRcore)