Package: gDR Version: 1.5.1 Command: /Library/Frameworks/R.framework/Resources/bin/R CMD check --install=check:gDR.install-out.txt --library=/Library/Frameworks/R.framework/Resources/library --no-vignettes --timings gDR_1.5.1.tar.gz StartedAt: 2025-02-02 20:31:31 -0500 (Sun, 02 Feb 2025) EndedAt: 2025-02-02 20:34:48 -0500 (Sun, 02 Feb 2025) EllapsedTime: 196.7 seconds RetCode: 0 Status: OK CheckDir: gDR.Rcheck Warnings: 0