Package: gDR Version: 1.5.1 Command: rm -rf gDR.buildbin-libdir && mkdir gDR.buildbin-libdir && /Users/biocbuild/BBS/utils/build-universal.sh gDR_1.5.1.tar.gz /Library/Frameworks/R.framework/Resources/bin/R gDR.buildbin-libdir StartedAt: 2025-02-03 00:24:17 -0500 (Mon, 03 Feb 2025) EndedAt: 2025-02-03 00:24:51 -0500 (Mon, 03 Feb 2025) EllapsedTime: 33.6 seconds RetCode: 0 Status: OK PackageFile: gDR_1.5.1.tgz PackageFileSize: 278.9 KiB