Package: gDNAx Version: 1.5.1 Command: /Library/Frameworks/R.framework/Resources/bin/R CMD check --install=check:gDNAx.install-out.txt --library=/Library/Frameworks/R.framework/Resources/library --no-vignettes --timings gDNAx_1.5.1.tar.gz StartedAt: 2025-01-31 19:20:04 -0500 (Fri, 31 Jan 2025) EndedAt: 2025-01-31 19:25:38 -0500 (Fri, 31 Jan 2025) EllapsedTime: 334.1 seconds RetCode: 0 Status: OK CheckDir: gDNAx.Rcheck Warnings: 0