Package: funtooNorm Version: 1.31.0 Command: E:\biocbuild\bbs-3.21-bioc\R\bin\R.exe CMD check --no-multiarch --install=check:funtooNorm.install-out.txt --library=E:\biocbuild\bbs-3.21-bioc\R\library --no-vignettes --timings funtooNorm_1.31.0.tar.gz StartedAt: 2025-02-01 00:55:08 -0500 (Sat, 01 Feb 2025) EndedAt: 2025-02-01 01:03:36 -0500 (Sat, 01 Feb 2025) EllapsedTime: 508.0 seconds RetCode: 0 Status: WARNINGS CheckDir: funtooNorm.Rcheck Warnings: 2