Package: funtooNorm Version: 1.31.0 Command: /home/biocbuild/bbs-3.21-bioc/R/bin/R CMD build --keep-empty-dirs --no-resave-data funtooNorm StartedAt: 2025-02-02 17:14:44 -0500 (Sun, 02 Feb 2025) EndedAt: 2025-02-02 17:14:45 -0500 (Sun, 02 Feb 2025) EllapsedTime: 1.0 seconds RetCode: 0 Status: OK PackageFile: funtooNorm_1.31.0.tar.gz PackageFileSize: 2.458 MiB