Package: fmrs Version: 1.17.0 Command: /Library/Frameworks/R.framework/Resources/bin/R CMD INSTALL fmrs StartedAt: 2025-01-31 15:33:56 -0500 (Fri, 31 Jan 2025) EndedAt: 2025-01-31 15:34:10 -0500 (Fri, 31 Jan 2025) EllapsedTime: 13.8 seconds RetCode: 0 Status: OK