Package: flowWorkspace Version: 4.19.0 Command: /home/biocbuild/bbs-3.21-bioc/R/bin/R CMD check --install=check:flowWorkspace.install-out.txt --library=/home/biocbuild/bbs-3.21-bioc/R/site-library --timings flowWorkspace_4.19.0.tar.gz StartedAt: 2025-01-31 22:25:05 -0500 (Fri, 31 Jan 2025) EndedAt: 2025-01-31 22:28:28 -0500 (Fri, 31 Jan 2025) EllapsedTime: 203.3 seconds RetCode: 0 Status: WARNINGS CheckDir: flowWorkspace.Rcheck Warnings: 5