Package: flowViz Version: 1.71.0 Command: /home/biocbuild/R/R/bin/R CMD INSTALL flowViz StartedAt: 2025-01-29 19:42:29 -0000 (Wed, 29 Jan 2025) EndedAt: 2025-01-29 19:42:45 -0000 (Wed, 29 Jan 2025) EllapsedTime: 16.2 seconds RetCode: 0 Status: OK