Package: flowTrans Version: 1.59.0 Command: E:\biocbuild\bbs-3.21-bioc\R\bin\R.exe CMD INSTALL flowTrans StartedAt: 2025-01-31 15:51:14 -0500 (Fri, 31 Jan 2025) EndedAt: 2025-01-31 15:51:29 -0500 (Fri, 31 Jan 2025) EllapsedTime: 15.3 seconds RetCode: 0 Status: OK