Package: flowTime Version: 1.31.0 Command: /Library/Frameworks/R.framework/Resources/bin/R CMD check --install=check:flowTime.install-out.txt --library=/Library/Frameworks/R.framework/Resources/library --no-vignettes --timings flowTime_1.31.0.tar.gz StartedAt: 2025-01-31 20:25:21 -0500 (Fri, 31 Jan 2025) EndedAt: 2025-01-31 20:26:39 -0500 (Fri, 31 Jan 2025) EllapsedTime: 78.1 seconds RetCode: 0 Status: OK CheckDir: flowTime.Rcheck Warnings: 0