Package: flowTime Version: 1.31.0 Command: /home/biocbuild/R/R/bin/R CMD INSTALL flowTime StartedAt: 2025-01-29 19:42:18 -0000 (Wed, 29 Jan 2025) EndedAt: 2025-01-29 19:42:29 -0000 (Wed, 29 Jan 2025) EllapsedTime: 10.8 seconds RetCode: 0 Status: OK