Package: flowTime Version: 1.31.0 Command: /home/biocbuild/R/R/bin/R CMD build --keep-empty-dirs --no-resave-data flowTime StartedAt: 2025-01-28 22:57:28 -0000 (Tue, 28 Jan 2025) EndedAt: 2025-01-28 22:58:13 -0000 (Tue, 28 Jan 2025) EllapsedTime: 45.0 seconds RetCode: 0 Status: OK PackageFile: flowTime_1.31.0.tar.gz PackageFileSize: 2.233 MiB