Package: flowStats Version: 4.19.0 Command: /home/biocbuild/bbs-3.21-bioc/R/bin/R CMD check --install=check:flowStats.install-out.txt --library=/home/biocbuild/bbs-3.21-bioc/R/site-library --timings flowStats_4.19.0.tar.gz StartedAt: 2025-02-02 22:18:39 -0500 (Sun, 02 Feb 2025) EndedAt: 2025-02-02 22:22:44 -0500 (Sun, 02 Feb 2025) EllapsedTime: 244.4 seconds RetCode: 0 Status: WARNINGS CheckDir: flowStats.Rcheck Warnings: 4