Package: flowPlots Version: 1.55.0 Command: /home/biocbuild/R/R/bin/R CMD INSTALL flowPlots StartedAt: 2025-01-29 19:29:44 -0000 (Wed, 29 Jan 2025) EndedAt: 2025-01-29 19:29:54 -0000 (Wed, 29 Jan 2025) EllapsedTime: 9.2 seconds RetCode: 0 Status: OK