Package: flowPloidy Version: 1.33.0 Command: /Library/Frameworks/R.framework/Resources/bin/R CMD check --install=check:flowPloidy.install-out.txt --library=/Library/Frameworks/R.framework/Resources/library --no-vignettes --timings flowPloidy_1.33.0.tar.gz StartedAt: 2025-01-31 20:25:13 -0500 (Fri, 31 Jan 2025) EndedAt: 2025-01-31 20:26:36 -0500 (Fri, 31 Jan 2025) EllapsedTime: 83.0 seconds RetCode: 0 Status: OK CheckDir: flowPloidy.Rcheck Warnings: 0