Package: flowPeaks Version: 1.53.2 Command: E:\biocbuild\bbs-3.21-bioc\R\bin\R.exe CMD check --no-multiarch --install=check:flowPeaks.install-out.txt --library=E:\biocbuild\bbs-3.21-bioc\R\library --no-vignettes --timings flowPeaks_1.53.2.tar.gz StartedAt: 2025-02-01 00:52:50 -0500 (Sat, 01 Feb 2025) EndedAt: 2025-02-01 00:53:44 -0500 (Sat, 01 Feb 2025) EllapsedTime: 53.7 seconds RetCode: 0 Status: OK CheckDir: flowPeaks.Rcheck Warnings: 0