Package: flowPeaks Version: 1.53.2 Command: rm -rf flowPeaks.buildbin-libdir && mkdir flowPeaks.buildbin-libdir && E:\biocbuild\bbs-3.21-bioc\R\bin\R.exe CMD INSTALL --build --library=flowPeaks.buildbin-libdir flowPeaks_1.53.2.tar.gz StartedAt: 2025-02-01 07:13:38 -0500 (Sat, 01 Feb 2025) EndedAt: 2025-02-01 07:15:25 -0500 (Sat, 01 Feb 2025) EllapsedTime: 107.3 seconds RetCode: 0 Status: OK PackageFile: flowPeaks_1.53.2.zip PackageFileSize: 2.072 MiB