Package: flowMerge Version: 2.55.0 Command: rm -rf flowMerge.buildbin-libdir && mkdir flowMerge.buildbin-libdir && E:\biocbuild\bbs-3.21-bioc\R\bin\R.exe CMD INSTALL --build --library=flowMerge.buildbin-libdir flowMerge_2.55.0.tar.gz StartedAt: 2025-02-01 07:13:37 -0500 (Sat, 01 Feb 2025) EndedAt: 2025-02-01 07:14:30 -0500 (Sat, 01 Feb 2025) EllapsedTime: 53.1 seconds RetCode: 0 Status: OK PackageFile: flowMerge_2.55.0.zip PackageFileSize: 901.6 KiB