Package: flowGraph Version: 1.15.0 Command: E:\biocbuild\bbs-3.21-bioc\R\bin\R.exe CMD INSTALL flowGraph StartedAt: 2025-01-31 15:52:47 -0500 (Fri, 31 Jan 2025) EndedAt: 2025-01-31 15:53:28 -0500 (Fri, 31 Jan 2025) EllapsedTime: 41.1 seconds RetCode: 0 Status: OK