Package: flowDensity Version: 1.41.0 Command: E:\biocbuild\bbs-3.21-bioc\R\bin\R.exe CMD check --no-multiarch --install=check:flowDensity.install-out.txt --library=E:\biocbuild\bbs-3.21-bioc\R\library --no-vignettes --timings flowDensity_1.41.0.tar.gz StartedAt: 2025-02-01 00:51:11 -0500 (Sat, 01 Feb 2025) EndedAt: 2025-02-01 00:52:22 -0500 (Sat, 01 Feb 2025) EllapsedTime: 71.2 seconds RetCode: 0 Status: WARNINGS CheckDir: flowDensity.Rcheck Warnings: 3