Package: flowDensity Version: 1.41.0 Command: /Library/Frameworks/R.framework/Resources/bin/R CMD INSTALL flowDensity StartedAt: 2025-01-31 15:36:12 -0500 (Fri, 31 Jan 2025) EndedAt: 2025-01-31 15:36:27 -0500 (Fri, 31 Jan 2025) EllapsedTime: 14.8 seconds RetCode: 0 Status: OK