Package: flowDensity Version: 1.41.0 Command: /home/biocbuild/R/R/bin/R CMD build --keep-empty-dirs --no-resave-data flowDensity StartedAt: 2025-01-28 22:55:58 -0000 (Tue, 28 Jan 2025) EndedAt: 2025-01-28 22:56:00 -0000 (Tue, 28 Jan 2025) EllapsedTime: 2.0 seconds RetCode: 0 Status: OK PackageFile: flowDensity_1.41.0.tar.gz PackageFileSize: 4.295 MiB