Package: findIPs Version: 1.3.1 Command: /Library/Frameworks/R.framework/Resources/bin/R CMD build --keep-empty-dirs --no-resave-data findIPs StartedAt: 2025-01-31 16:42:55 -0500 (Fri, 31 Jan 2025) EndedAt: 2025-01-31 16:47:28 -0500 (Fri, 31 Jan 2025) EllapsedTime: 272.3 seconds RetCode: 0 Status: OK PackageFile: findIPs_1.3.1.tar.gz PackageFileSize: 2.292 MiB