Package: findIPs Version: 1.3.1 Command: /Library/Frameworks/R.framework/Resources/bin/R CMD INSTALL findIPs StartedAt: 2025-01-31 15:20:05 -0500 (Fri, 31 Jan 2025) EndedAt: 2025-01-31 15:20:13 -0500 (Fri, 31 Jan 2025) EllapsedTime: 8.3 seconds RetCode: 0 Status: OK