Package: fgsea Version: 1.33.2 Command: E:\biocbuild\bbs-3.21-bioc\R\bin\R.exe CMD check --no-multiarch --install=check:fgsea.install-out.txt --library=E:\biocbuild\bbs-3.21-bioc\R\library --no-vignettes --timings fgsea_1.33.2.tar.gz StartedAt: 2025-02-01 00:47:53 -0500 (Sat, 01 Feb 2025) EndedAt: 2025-02-01 00:58:54 -0500 (Sat, 01 Feb 2025) EllapsedTime: 660.3 seconds RetCode: 0 Status: OK CheckDir: fgsea.Rcheck Warnings: 0