Package: fgsea Version: 1.33.2 Command: /home/biocbuild/bbs-3.21-bioc/R/bin/R CMD check --install=check:fgsea.install-out.txt --library=/home/biocbuild/bbs-3.21-bioc/R/site-library --timings fgsea_1.33.2.tar.gz StartedAt: 2025-01-31 22:19:02 -0500 (Fri, 31 Jan 2025) EndedAt: 2025-01-31 22:37:42 -0500 (Fri, 31 Jan 2025) EllapsedTime: 1119.8 seconds RetCode: 0 Status: OK CheckDir: fgsea.Rcheck Warnings: 0