Package: fgsea Version: 1.33.2 Command: /Library/Frameworks/R.framework/Resources/bin/R CMD INSTALL fgsea StartedAt: 2025-01-31 15:19:07 -0500 (Fri, 31 Jan 2025) EndedAt: 2025-01-31 15:19:17 -0500 (Fri, 31 Jan 2025) EllapsedTime: 10.0 seconds RetCode: 0 Status: OK