Package: fgsea Version: 1.33.2 Command: /Library/Frameworks/R.framework/Resources/bin/R CMD check --install=check:fgsea.install-out.txt --library=/Library/Frameworks/R.framework/Resources/library --no-vignettes --timings fgsea_1.33.2.tar.gz StartedAt: 2025-01-31 19:14:43 -0500 (Fri, 31 Jan 2025) EndedAt: 2025-01-31 19:16:02 -0500 (Fri, 31 Jan 2025) EllapsedTime: 78.9 seconds RetCode: 0 Status: OK CheckDir: fgsea.Rcheck Warnings: 0